Workbook

Sheet 入会申请表
A1: 延 边 作 家 协 会 入 会 申 请 表
A2: 填表 日期 | D2: 年 | G2: 月 | I2: 日 | N2: 申请类型：
A3: 姓名 (中文) | J3: 姓名 (朝文) | N3: 笔名 | R3: 中 | S3: 照片 （请以附件单独发送）
R4: 朝
A5: 出生 日期 | D5: 年 | G5: 月 | I5: 日 | J5: 性别 | N5: 民族 | Q5: 族
A6: 政治 面貌 | J6: 籍贯
A7: 受教育 程度 | L7: 身份证号
A8: 推荐人或 创作委员会 | L8: 主要从事文学门类 | S8: 职称
A9: 工作单位 | N9: 单位性质
A10: 工作职务 | N10: 行政级别
A11: 通讯地址 | O11: 邮编
A12: 电子邮箱 | O12: 微信号
A13: 单位 电话 | J13: 住宅 电话 | O13: 移动 电话
A14: 主要学习经历 | B14: 起止年月 | L14: 在何处学习及学位
C15: 年 | E15: 月 | G15: - | I15: 年 | K15: 月
C16: 年 | E16: 月 | G16: - | I16: 年 | K16: 月
C17: 年 | E17: 月 | G17: - | I17: 年 | K17: 月
C18: 年 | E18: 月 | G18: - | I18: 年 | K18: 月
C19: 年 | E19: 月 | G19: - | I19: 年 | K19: 月
A20: 主要工作经历 | B20: 起止年月 | L20: 在何处工作及职务
C21: 年 | E21: 月 | G21: - | I21: 年 | K21: 月
C22: 年 | E22: 月 | G22: - | I22: 年 | K22: 月
C23: 年 | E23: 月 | G23: - | I23: 年 | K23: 月
C24: 年 | E24: 月 | G24: - | I24: 年 | K24: 月
C25: 年 | E25: 月 | G25: - | I25: 年 | K25: 月
A26: 主席团意见
A27: 入会审批 日期
A28: 所属分科
A29: 会员编号
A30: 延 边 作 家 协 会 入 会 申 请 表
A31: 填表 日期 | B31: =B2 -> 0 | D31: 年 | F31: =F2 -> 0 | G31: 月 | H31: =H2 -> 0 | I31: 日 | N31: 申请类型： | S31: =S2 -> 0
A32: 姓名 | B32: =B3 -> 0 | G32: 笔名 | I32: =O3 -> 0 | L32: 性别 | M32: =L5 -> 0 | N32: 民族 | O32: =O5&Q5 -> 族 | Q32: 出生 日期 | S32: =B5&C5&D5&F5&G5&H5&I5 -> 年月日
A33: 代表性成果 | B33: 出版专集(书) | C33: 出版 时间 | G33: 体裁 | I33: 专集名称（书名） | M33: 印数 | N33: 字数 | O33: 出版社名称 | T33: CIP数据核字 （ ）第 号
B38: 发表作品 | C38: 发表 时间 | G38: 体裁 | I38: 作品名称 | N38: 字数 | O38: 刊物名称 | T38: 国内统一刊号
B45: （省级以上公开文学刊物）
B54: （作品名可用母语填写）
A64: 延 边 作 家 协 会 入 会 申 请 表
A65: 填表 日期 | B65: =B2 -> 0 | D65: 年 | F65: =F2 -> 0 | G65: 月 | H65: =H2 -> 0 | I65: 日 | N65: 申请类型： | S65: =S2 -> 0
A66: 姓名 | B66: =B3 -> 0 | G66: 笔名 | I66: =O3 -> 0 | L66: 性别 | M66: =L5 -> 0 | N66: 民族 | O66: =O5&Q5 -> 族 | Q66: 出生 日期 | S66: =B5&C5&D5&F5&G5&H5&I5 -> 年月日
A67: 其他创作情况（仅供参考） | B67: 【省级以下报刊杂志刊载的具有一定影响力的文学作品发表情况】
A69: 获奖情况及作品影响
A70: 文学自传（可用母语） | B70: 【个人创作经历、创作谈、文学成果、对文学的理解等,500字以内】

Sheet 汇总表
A1: 延边作家协会入会信息汇总表
A2: （自动生成，不必填写）
A3: 序号 | B3: 朝文姓名 | C3: 姓名 | D3: 朝文笔名 | E3: 笔名 | F3: 民族 | G3: 性别 | H3: 会员编号 | I3: 出生日期 | J3: 主要从事文学门类 | K3: 所属分科 | L3: 政治面貌 | M3: 入会时间 | N3: 通讯地址 | O3: 联系方式 | P3: 职务 | Q3: 备注
B4: =入会申请表!L3 -> 0 | C4: =入会申请表!B3 -> 0 | D4: =入会申请表!O4 -> 0 | E4: =入会申请表!O3 -> 0 | F4: =入会申请表!O5&入会申请表!Q5 -> 族 | G4: =入会申请表!L5 -> 0 | I4: =入会申请表!B5&入会申请表!D5&入会申请表!F5&入会申请表!G5&入会申请表!H5&入会申请表!I5 -> 年月日 | J4: =入会申请表!N8 -> 0 | L4: =入会申请表!B6 -> 0 | N4: =入会申请表!E11 -> 0 | O4: =入会申请表!Q13 -> 0 | P4: =入会申请表!E10 -> 0

Sheet 发表作品
A1: 出版专集(书) | B1: 出版 时间 | F1: 体裁 | H1: 专集名称（书名） | L1: 印数 | M1: 字数 | N1: 出版社名称 | S1: CIP数据核字 （ ）第 号
A16: 发表作品 | B16: 发表 时间 | F16: 体裁 | H16: 作品名称 | M16: 字数 | N16: 刊物名称 | S16: 国内统一刊号
A23: （省级以上公开文学刊物）
A32: （作品名可用母语填写）
A61: 其他发表作品 | B61: 发表 时间 | F61: 体裁 | H61: 作品名称 | M61: 字数 | N61: 刊物名称 | S61: 国内统一刊号
A68: （省级以下公开文学刊物）
A77: （作品名可用母语填写）
