Workbook

Sheet 入会申请表
A1: 延 边 作 家 协 会 入 会 申 请 表
A2: 填表 日期 | D2: 年 | G2: 月 | I2: 日 | N2: 申请类型：
A3: 姓名 (中文) | J3: 姓名 (朝文) | N3: 笔名 | R3: 中 | S3: 照片
R4: 朝
A5: 出生 日期 | D5: 年 | G5: 月 | I5: 日 | J5: 性别 | N5: 民族 | Q5: 族
A6: 政治 面貌 | J6: 籍贯
A7: 受教育 程度 | L7: 身份证号
A8: 推荐人或 创作委员会 | L8: 主要从事文学门类 | S8: 职称
A9: 工作单位 | N9: 单位性质
A10: 工作职务 | N10: 行政级别
A11: 通讯地址 | O11: 邮编
A12: 电子邮箱 | O12: 微信号
A13: 单位 电话 | J13: 住宅 电话 | O13: 移动 电话
A14: 主要学习经历 | B14: 起止年月 | L14: 在何处学习及学位
C15: 年 | F15: 月 | G15: - | I15: 年 | K15: 月
C16: 年 | F16: 月 | G16: - | I16: 年 | K16: 月
C17: 年 | F17: 月 | G17: - | I17: 年 | K17: 月
C18: 年 | F18: 月 | G18: - | I18: 年 | K18: 月
C19: 年 | F19: 月 | G19: - | I19: 年 | K19: 月
A20: 主要工作经历 | B20: 起止年月 | L20: 在何处工作及职务
C21: 年 | F21: 月 | G21: - | I21: 年 | K21: 月
C22: 年 | F22: 月 | G22: - | I22: 年 | K22: 月
C23: 年 | F23: 月 | G23: - | I23: 年 | K23: 月
C24: 年 | F24: 月 | G24: - | I24: 年 | K24: 月
C25: 年 | F25: 月 | G25: - | I25: 年 | K25: 月
A26: 主席团意见
A27: 入会审批 日期
A28: 所属分科
A29: 会员编号
A31: 延 边 作 家 协 会 入 会 申 请 表
A32: 填表 日期 | B32: =B2 -> 0 | D32: 年 | F32: =F2 -> 0 | G32: 月 | H32: =H2 -> 0 | I32: 日 | N32: 申请类型： | S32: =S2 -> 0
A33: 姓名 | B33: =B3 -> 0 | G33: 笔名 | I33: =O3 -> 0 | L33: 性别 | M33: =L5 -> 0 | N33: 民族 | O33: =O5&Q5 -> 族 | Q33: 出生 日期 | S33: =B5&C5&D5&F5&G5&H5&I5 -> 年月日
A34: 代表性成果 | B34: 出版专著(书) | C34: 序号 | D34: 出版时间 | G34: 体裁 | I34: 专集名称（书名） | M34: 印数 | N34: 字数 | O34: 出版社名称 | T34: CIP数据核字 （ ）第 号
C35: 1
C36: 2
C37: 3
C38: 4
C39: 5
B40: 发表作品 | C40: 序号 | D40: 发表时间 | G40: 体裁 | I40: 作品名称 | N40: 字数 | O40: 刊物名称 | T40: 国内统一刊号
B41: 州级以上公开文学报刊杂志（作品名可用朝鲜文填写，如有更多作品可接第4页填写） | C41: 1
C42: 2
C43: 3
C44: 4
C45: 5
C46: 6
C47: 7
C48: 8
C49: 9
C50: 10
C51: 11
C52: 12
C53: 13
... C65: 25
A66: 延 边 作 家 协 会 入 会 申 请 表
A67: 填表 日期 | B67: =B2 -> 0 | D67: 年 | F67: =F2 -> 0 | G67: 月 | H67: =H2 -> 0 | I67: 日 | N67: 申请类型： | S67: =S2 -> 0
A68: 姓名 | B68: =B3 -> 0 | G68: 笔名 | I68: =O3 -> 0 | L68: 性别 | M68: =L5 -> 0 | N68: 民族 | O68: =O5&Q5 -> 族 | Q68: 出生 日期 | S68: =B5&C5&D5&F5&G5&H5&I5 -> 年月日
A69: 其他 发表 情况 | B69: 序号 | C69: 发表 时间 | F69: 体裁 | H69: 作品名称 | M69: 字数 | N69: 刊物名称 | S69: 国内统一刊号
A70: 其他公开报刊杂志发表的文学作品 （作品名可用朝鲜文填写，如有更多作品可接第4页填写） | B70: 1
B71: 2
B72: 3
B73: 4
B74: 5
B75: 6
B76: 7
B77: 8
B78: 9
B79: 10
B80: 11
B81: 12
B82: 13
... B84: 15
A85: 获奖情况及作品影响
A86: 文学自传（可用朝鲜文填写） | B86: 【个人创作经历、创作谈、文学成果、对文学的理解等,500字以内】
A88: 延 边 作 家 协 会 入 会 申 请 表
A89: 填表 日期 | B89: =B67 -> 0 | D89: =D67 -> 年 | F89: =F67 -> 0 | G89: =G67 -> 月 | H89: =H67 -> 0 | I89: =I67 -> 日 | J89: =J67 -> 0 | K89: =K67 -> 0 | L89: =L67 -> 0 | N89: =N67 -> 申请类型： | S89: =S45 -> 0
A90: 姓名 | B90: =B68 -> 0 | G90: =G68 -> 笔名 | I90: =I68 -> 0 | L90: =L68 -> 性别 | M90: =M68 -> 0 | N90: =N68 -> 民族 | O90: =O68 -> 族 | Q90: =Q68 -> 出生 日期 | S90: =$S$68 -> 年月日
A91: 发表 作品 | B91: 序号 | C91: 发表 时间 | F91: 体裁 | H91: 作品名称 | M91: 字数 | N91: 刊物名称 | S91: 国内统一刊号
A92: （州级以上公开文学刊物） （作品名可用朝鲜文填写） | B92: 1
B93: 2
B94: 3
B95: 4
B96: 5
B97: 6
B98: 7
B99: 8
B100: 9
B101: 10
B102: 11
B103: 12
B104: 13
... B116: 25
A117: 其他 发表 作品 | B117: 序号 | C117: 发表 时间 | F117: 体裁 | H117: 作品名称 | M117: 字数 | N117: 刊物名称 | S117: 国内统一刊号
A118: 其他公开报刊杂志发表的文学作品 （作品名可用朝鲜文填写） | B118: 1
B119: 2
B120: 3
B121: 4
B122: 5
B123: 6
B124: 7
B125: 8
...

Sheet 汇总表
A1: 延边作家协会入会信息汇总表
A2: （自动生成，不必填写）
A3: 序号 | B3: 朝文姓名 | C3: 姓名 | D3: 朝文笔名 | E3: 笔名 | F3: 民族 | G3: 性别 | H3: 会员编号 | I3: 出生日期 | J3: 主要从事文学门类 | K3: 所属分科 | L3: 政治面貌 | M3: 入会时间 | N3: 通讯地址 | O3: 联系方式 | P3: 职务 | Q3: 备注
B4: =入会申请表!L3 -> 0 | C4: =入会申请表!B3 -> 0 | D4: =入会申请表!O4 -> 0 | E4: =入会申请表!O3 -> 0 | F4: =入会申请表!O5&入会申请表!Q5 -> 族 | G4: =入会申请表!L5 -> 0 | I4: =入会申请表!B5&入会申请表!D5&入会申请表!F5&入会申请表!G5&入会申请表!H5&入会申请表!I5 -> 年月日 | J4: =入会申请表!N8 -> 0 | L4: =入会申请表!B6 -> 0 | N4: =入会申请表!E11 -> 0 | O4: =入会申请表!Q13 -> 0 | P4: =入会申请表!E10 -> 0
